BEGIN:VCALENDAR
VERSION:2.0
PRODID:-//pretix//pretix.eu//
BEGIN:VTIMEZONE
TZID:Europe/Berlin
BEGIN:STANDARD
DTSTART:20001029T040000
RRULE:FREQ=YEARLY;BYDAY=-1SU;BYMONTH=10
TZNAME:CET
TZOFFSETFROM:+0200
TZOFFSETTO:+0100
END:STANDARD
BEGIN:DAYLIGHT
DTSTART:20000326T030000
RRULE:FREQ=YEARLY;BYDAY=-1SU;BYMONTH=3
TZNAME:CEST
TZOFFSETFROM:+0100
TZOFFSETTO:+0200
END:DAYLIGHT
END:VTIMEZONE
BEGIN:VEVENT
UID:pretix-rennbahnberlin-renntage-2025-4281634@ticket.rennbahn-berlin.de
DTSTART;TZID=Europe/Berlin:20250821T111500
DTEND;TZID=Europe/Berlin:20250821T121500
DESCRIPTION:Tickets: https://ticket.rennbahn-berlin.de/renntage-2025/428163
 4/\nEinlass: 21.08.2025 10:00\nVeranstalter: MTG Mariendorfer Trabrennbahn
  GmbH & Co. Verwaltungs-KG
DTSTAMP:20260422T174138Z
LOCATION:Trabrennbahn Berlin-Mariendorf
SUMMARY:17. Renntag I Derby Tag 3 PMU-Matinée I Freier Eintritt
END:VEVENT
END:VCALENDAR
