BEGIN:VCALENDAR
VERSION:2.0
PRODID:-//pretix//pretix.eu//
BEGIN:VTIMEZONE
TZID:Europe/Berlin
BEGIN:STANDARD
DTSTART:20001029T040000
RRULE:FREQ=YEARLY;BYDAY=-1SU;BYMONTH=10
TZNAME:CET
TZOFFSETFROM:+0200
TZOFFSETTO:+0100
END:STANDARD
BEGIN:DAYLIGHT
DTSTART:20000326T030000
RRULE:FREQ=YEARLY;BYDAY=-1SU;BYMONTH=3
TZNAME:CEST
TZOFFSETFROM:+0100
TZOFFSETTO:+0200
END:DAYLIGHT
END:VTIMEZONE
BEGIN:VEVENT
UID:pretix-rennbahnberlin-renntage-2021-277848@ticket.rennbahn-berlin.de
DTSTART;TZID=Europe/Berlin:20210904T130000
DTEND;TZID=Europe/Berlin:20210904T140000
DESCRIPTION:Tickets: https://ticket.rennbahn-berlin.de/renntage-2021/277848
 /\nEinlass: 04.09.2021 11:00\nVeranstalter: MTG Mariendorfer Trabrennbahn 
 GmbH & Co. Verwaltungs-KG
DTSTAMP:20260422T090025Z
LOCATION:Trabrennbahn Berlin-Mariendorf
SUMMARY:Derby 5. Tag (25.Renntag)
END:VEVENT
END:VCALENDAR
